Package: cbpManager Version: 1.17.0 Command: /Library/Frameworks/R.framework/Resources/bin/R CMD build --keep-empty-dirs --no-resave-data cbpManager StartedAt: 2025-07-01 16:24:50 -0400 (Tue, 01 Jul 2025) EndedAt: 2025-07-01 16:25:09 -0400 (Tue, 01 Jul 2025) EllapsedTime: 19.4 seconds RetCode: 0 Status: OK PackageFile: cbpManager_1.17.0.tar.gz PackageFileSize: 4.639 MiB