Package: cbpManager Version: 1.17.0 Command: /Library/Frameworks/R.framework/Resources/bin/R CMD INSTALL cbpManager StartedAt: 2025-07-24 15:16:11 -0400 (Thu, 24 Jul 2025) EndedAt: 2025-07-24 15:16:16 -0400 (Thu, 24 Jul 2025) EllapsedTime: 5.2 seconds RetCode: 0 Status: OK