Package: cbpManager Version: 1.17.0 Command: /Library/Frameworks/R.framework/Resources/bin/R CMD build --keep-empty-dirs --no-resave-data cbpManager StartedAt: 2025-07-24 15:58:11 -0400 (Thu, 24 Jul 2025) EndedAt: 2025-07-24 15:58:19 -0400 (Thu, 24 Jul 2025) EllapsedTime: 7.1 seconds RetCode: 0 Status: OK PackageFile: cbpManager_1.17.0.tar.gz PackageFileSize: 4.64 MiB