Package: cbaf Version: 1.31.0 Command: F:\biocbuild\bbs-3.22-bioc\R\bin\R.exe CMD check --no-multiarch --install=check:cbaf.install-out.txt --library=F:\biocbuild\bbs-3.22-bioc\R\library --no-vignettes --timings cbaf_1.31.0.tar.gz StartedAt: 2025-06-30 00:06:59 -0400 (Mon, 30 Jun 2025) EndedAt: 2025-06-30 00:13:42 -0400 (Mon, 30 Jun 2025) EllapsedTime: 403.9 seconds RetCode: 0 Status: OK CheckDir: cbaf.Rcheck Warnings: 0