Package: cbaf Version: 1.31.0 Command: /Library/Frameworks/R.framework/Resources/bin/R CMD check --install=check:cbaf.install-out.txt --library=/Library/Frameworks/R.framework/Resources/library --no-vignettes --timings cbaf_1.31.0.tar.gz StartedAt: 2025-07-11 18:24:27 -0400 (Fri, 11 Jul 2025) EndedAt: 2025-07-11 18:26:28 -0400 (Fri, 11 Jul 2025) EllapsedTime: 121.5 seconds RetCode: 0 Status: OK CheckDir: cbaf.Rcheck Warnings: 0