Package: categoryCompare Version: 1.53.0 Command: chmod a+r categoryCompare -R && F:\biocbuild\bbs-3.22-bioc\R\bin\R.exe CMD build --keep-empty-dirs --no-resave-data categoryCompare StartedAt: 2025-08-14 18:56:25 -0400 (Thu, 14 Aug 2025) EndedAt: 2025-08-14 19:01:00 -0400 (Thu, 14 Aug 2025) EllapsedTime: 274.5 seconds RetCode: 0 Status: OK PackageFile: categoryCompare_1.53.0.tar.gz PackageFileSize: 3.162 MiB