Package: cardelino Version: 1.11.0 Command: rm -rf cardelino.buildbin-libdir && mkdir cardelino.buildbin-libdir && F:\biocbuild\bbs-3.22-bioc\R\bin\R.exe CMD INSTALL --build --library=cardelino.buildbin-libdir cardelino_1.11.0.tar.gz StartedAt: 2025-07-16 08:31:38 -0400 (Wed, 16 Jul 2025) EndedAt: 2025-07-16 08:32:45 -0400 (Wed, 16 Jul 2025) EllapsedTime: 67.2 seconds RetCode: 0 Status: OK PackageFile: cardelino_1.11.0.zip PackageFileSize: 3.231 MiB