Package: cardelino Version: 1.11.0 Command: /home/biocbuild/bbs-3.22-bioc/R/bin/R CMD build --keep-empty-dirs --no-resave-data --md5 cardelino StartedAt: 2025-07-04 16:25:21 -0400 (Fri, 04 Jul 2025) EndedAt: 2025-07-04 16:26:45 -0400 (Fri, 04 Jul 2025) EllapsedTime: 84.2 seconds RetCode: 0 Status: OK PackageFile: cardelino_1.11.0.tar.gz PackageFileSize: 3.649 MiB