Package: cardelino Version: 1.11.0 Command: /Library/Frameworks/R.framework/Resources/bin/R CMD INSTALL cardelino StartedAt: 2025-07-20 15:44:24 -0400 (Sun, 20 Jul 2025) EndedAt: 2025-07-20 15:45:24 -0400 (Sun, 20 Jul 2025) EllapsedTime: 60.3 seconds RetCode: 0 Status: OK