Package: cancerclass Version: 1.53.0 Command: /home/biocbuild/R/R/bin/R CMD build --keep-empty-dirs --no-resave-data cancerclass StartedAt: 2025-07-24 23:11:58 -0000 (Thu, 24 Jul 2025) EndedAt: 2025-07-24 23:12:33 -0000 (Thu, 24 Jul 2025) EllapsedTime: 35.0 seconds RetCode: 0 Status: OK PackageFile: cancerclass_1.53.0.tar.gz PackageFileSize: 1.518 MiB