Package: cancerclass Version: 1.53.0 Command: /Library/Frameworks/R.framework/Resources/bin/R CMD build --keep-empty-dirs --no-resave-data cancerclass StartedAt: 2025-07-20 16:21:13 -0400 (Sun, 20 Jul 2025) EndedAt: 2025-07-20 16:21:42 -0400 (Sun, 20 Jul 2025) EllapsedTime: 29.7 seconds RetCode: 0 Status: OK PackageFile: cancerclass_1.53.0.tar.gz PackageFileSize: 1.524 MiB