Package: cancerclass Version: 1.53.0 Command: /Library/Frameworks/R.framework/Resources/bin/R CMD check --install=check:cancerclass.install-out.txt --library=/Library/Frameworks/R.framework/Resources/library --no-vignettes --timings cancerclass_1.53.0.tar.gz StartedAt: 2025-07-23 18:24:37 -0400 (Wed, 23 Jul 2025) EndedAt: 2025-07-23 18:24:59 -0400 (Wed, 23 Jul 2025) EllapsedTime: 21.3 seconds RetCode: 0 Status: WARNINGS CheckDir: cancerclass.Rcheck Warnings: 1