Package: canceR Version: 1.43.0 Command: /home/biocbuild/R/R/bin/R CMD build --keep-empty-dirs --no-resave-data canceR StartedAt: 2025-06-26 22:20:10 -0000 (Thu, 26 Jun 2025) EndedAt: 2025-06-26 22:22:11 -0000 (Thu, 26 Jun 2025) EllapsedTime: 121.0 seconds RetCode: 0 Status: OK PackageFile: canceR_1.43.0.tar.gz PackageFileSize: 31.48 MiB