Package: calm Version: 1.23.0 Command: /home/biocbuild/R/R/bin/R CMD INSTALL calm StartedAt: 2025-07-03 20:28:30 -0000 (Thu, 03 Jul 2025) EndedAt: 2025-07-03 20:28:53 -0000 (Thu, 03 Jul 2025) EllapsedTime: 23.8 seconds RetCode: 0 Status: OK