Package: calm Version: 1.23.0 Command: /home/biocbuild/R/R/bin/R CMD build --keep-empty-dirs --no-resave-data calm StartedAt: 2025-07-03 22:35:42 -0000 (Thu, 03 Jul 2025) EndedAt: 2025-07-03 22:38:26 -0000 (Thu, 03 Jul 2025) EllapsedTime: 164.1 seconds RetCode: 0 Status: OK PackageFile: calm_1.23.0.tar.gz PackageFileSize: 390.2 KiB