Package: cTRAP Version: 1.27.0 Command: /Library/Frameworks/R.framework/Resources/bin/R CMD INSTALL cTRAP StartedAt: 2025-06-29 15:30:25 -0400 (Sun, 29 Jun 2025) EndedAt: 2025-06-29 15:31:06 -0400 (Sun, 29 Jun 2025) EllapsedTime: 40.7 seconds RetCode: 0 Status: OK