Package: cTRAP Version: 1.27.0 Command: /Library/Frameworks/R.framework/Resources/bin/R CMD check --install=check:cTRAP.install-out.txt --library=/Library/Frameworks/R.framework/Resources/library --no-vignettes --timings cTRAP_1.27.0.tar.gz StartedAt: 2025-06-29 19:52:00 -0400 (Sun, 29 Jun 2025) EndedAt: 2025-06-29 20:04:00 -0400 (Sun, 29 Jun 2025) EllapsedTime: 719.5 seconds RetCode: 0 Status: OK CheckDir: cTRAP.Rcheck Warnings: 0