Package: cTRAP Version: 1.27.0 Command: /Library/Frameworks/R.framework/Resources/bin/R CMD build --keep-empty-dirs --no-resave-data cTRAP StartedAt: 2025-06-29 16:24:30 -0400 (Sun, 29 Jun 2025) EndedAt: 2025-06-29 16:27:32 -0400 (Sun, 29 Jun 2025) EllapsedTime: 181.5 seconds RetCode: 0 Status: OK PackageFile: cTRAP_1.27.0.tar.gz PackageFileSize: 5.293 MiB