Package: cTRAP Version: 1.27.0 Command: rm -rf cTRAP.buildbin-libdir && mkdir cTRAP.buildbin-libdir && /Users/biocbuild/BBS/utils/build-universal.sh cTRAP_1.27.0.tar.gz /Library/Frameworks/R.framework/Resources/bin/R cTRAP.buildbin-libdir StartedAt: 2025-06-30 00:34:36 -0400 (Mon, 30 Jun 2025) EndedAt: 2025-06-30 00:35:21 -0400 (Mon, 30 Jun 2025) EllapsedTime: 45.1 seconds RetCode: 0 Status: OK PackageFile: cTRAP_1.27.0.tgz PackageFileSize: 6.385 MiB