Package: cBioPortalData Version: 2.21.4 Command: F:\biocbuild\bbs-3.22-bioc\R\bin\R.exe CMD check --no-multiarch --install=check:cBioPortalData.install-out.txt --library=F:\biocbuild\bbs-3.22-bioc\R\library --no-vignettes --timings cBioPortalData_2.21.4.tar.gz StartedAt: 2025-07-08 00:11:14 -0400 (Tue, 08 Jul 2025) EndedAt: 2025-07-08 00:18:19 -0400 (Tue, 08 Jul 2025) EllapsedTime: 425.9 seconds RetCode: 0 Status: OK CheckDir: cBioPortalData.Rcheck Warnings: 0