Package: bumphunter Version: 1.51.1 Maintainer: Tamilselvi Guharaj MaintainerEmail: selvi at ds.dfci.harvard.edu git_url: https://git.bioconductor.org/packages/bumphunter git_branch: devel git_last_commit: d729df4 git_last_commit_date: 2025-07-22 16:23:16 -0400 (Tue, 22 Jul 2025)