Package: bugsigdbr Version: 1.15.3 Command: /home/biocbuild/R/R/bin/R CMD INSTALL bugsigdbr StartedAt: 2025-07-14 20:21:12 -0000 (Mon, 14 Jul 2025) EndedAt: 2025-07-14 20:21:33 -0000 (Mon, 14 Jul 2025) EllapsedTime: 21.0 seconds RetCode: 0 Status: OK