Package: bsseq Version: 1.45.2 Command: F:\biocbuild\bbs-3.22-bioc\R\bin\R.exe CMD INSTALL bsseq StartedAt: 2025-07-13 16:27:59 -0400 (Sun, 13 Jul 2025) EndedAt: 2025-07-13 16:29:43 -0400 (Sun, 13 Jul 2025) EllapsedTime: 104.6 seconds RetCode: 0 Status: OK