Package: bsseq Version: 1.45.2 Command: F:\biocbuild\bbs-3.22-bioc\R\bin\R.exe CMD check --no-multiarch --install=check:bsseq.install-out.txt --library=F:\biocbuild\bbs-3.22-bioc\R\library --no-vignettes --timings bsseq_1.45.2.tar.gz StartedAt: 2025-07-14 00:07:30 -0400 (Mon, 14 Jul 2025) EndedAt: 2025-07-14 00:27:34 -0400 (Mon, 14 Jul 2025) EllapsedTime: 1203.8 seconds RetCode: 0 Status: OK CheckDir: bsseq.Rcheck Warnings: 0