Package: bsseq Version: 1.45.2 Command: chmod a+r bsseq -R && F:\biocbuild\bbs-3.22-bioc\R\bin\R.exe CMD build --keep-empty-dirs --no-resave-data bsseq StartedAt: 2025-07-13 17:47:17 -0400 (Sun, 13 Jul 2025) EndedAt: 2025-07-13 17:51:02 -0400 (Sun, 13 Jul 2025) EllapsedTime: 225.4 seconds RetCode: 0 Status: OK PackageFile: bsseq_1.45.2.tar.gz PackageFileSize: 2.825 MiB