Package: broadSeq Version: 1.3.3 Command: /Library/Frameworks/R.framework/Resources/bin/R CMD INSTALL broadSeq StartedAt: 2025-07-20 15:26:21 -0400 (Sun, 20 Jul 2025) EndedAt: 2025-07-20 15:26:37 -0400 (Sun, 20 Jul 2025) EllapsedTime: 15.8 seconds RetCode: 0 Status: OK