Package: broadSeq Version: 1.3.3 Command: /Library/Frameworks/R.framework/Resources/bin/R CMD build --keep-empty-dirs --no-resave-data broadSeq StartedAt: 2025-07-20 15:46:35 -0400 (Sun, 20 Jul 2025) EndedAt: 2025-07-20 15:47:29 -0400 (Sun, 20 Jul 2025) EllapsedTime: 53.6 seconds RetCode: 0 Status: OK PackageFile: broadSeq_1.3.3.tar.gz PackageFileSize: 4.18 MiB