Package: broadSeq Version: 1.3.3 Command: rm -rf broadSeq.buildbin-libdir && mkdir broadSeq.buildbin-libdir && /Users/biocbuild/BBS/utils/build-universal.sh broadSeq_1.3.3.tar.gz /Library/Frameworks/R.framework/Resources/bin/R broadSeq.buildbin-libdir StartedAt: 2025-07-20 22:19:23 -0400 (Sun, 20 Jul 2025) EndedAt: 2025-07-20 22:19:40 -0400 (Sun, 20 Jul 2025) EllapsedTime: 17.3 seconds RetCode: 0 Status: OK PackageFile: broadSeq_1.3.3.tgz PackageFileSize: 4.168 MiB