Package: brendaDb Version: 1.23.0 Command: rm -rf brendaDb.buildbin-libdir && mkdir brendaDb.buildbin-libdir && F:\biocbuild\bbs-3.22-bioc\R\bin\R.exe CMD INSTALL --build --library=brendaDb.buildbin-libdir brendaDb_1.23.0.tar.gz StartedAt: 2025-07-23 08:42:53 -0400 (Wed, 23 Jul 2025) EndedAt: 2025-07-23 08:43:15 -0400 (Wed, 23 Jul 2025) EllapsedTime: 21.6 seconds RetCode: 0 Status: OK PackageFile: brendaDb_1.23.0.zip PackageFileSize: 1.076 MiB