Package: brendaDb Version: 1.23.0 Command: /home/biocbuild/bbs-3.22-bioc/R/bin/R CMD INSTALL brendaDb StartedAt: 2025-07-07 15:08:05 -0400 (Mon, 07 Jul 2025) EndedAt: 2025-07-07 15:08:17 -0400 (Mon, 07 Jul 2025) EllapsedTime: 11.7 seconds RetCode: 0 Status: OK