Package: brendaDb Version: 1.23.0 Command: /home/biocbuild/bbs-3.22-bioc/R/bin/R CMD build --keep-empty-dirs --no-resave-data --md5 brendaDb StartedAt: 2025-07-07 16:26:24 -0400 (Mon, 07 Jul 2025) EndedAt: 2025-07-07 16:26:49 -0400 (Mon, 07 Jul 2025) EllapsedTime: 25.0 seconds RetCode: 0 Status: OK PackageFile: brendaDb_1.23.0.tar.gz PackageFileSize: 653.7 KiB