Package: brendaDb Version: 1.23.0 Command: rm -rf brendaDb.buildbin-libdir && mkdir brendaDb.buildbin-libdir && /Users/biocbuild/BBS/utils/build-universal.sh brendaDb_1.23.0.tar.gz /Library/Frameworks/R.framework/Resources/bin/R brendaDb.buildbin-libdir StartedAt: 2025-07-14 00:48:15 -0400 (Mon, 14 Jul 2025) EndedAt: 2025-07-14 00:48:35 -0400 (Mon, 14 Jul 2025) EllapsedTime: 19.5 seconds RetCode: 0 Status: OK PackageFile: brendaDb_1.23.0.tgz PackageFileSize: 764.6 KiB