Package: brendaDb Version: 1.23.0 Command: rm -rf brendaDb.buildbin-libdir && mkdir brendaDb.buildbin-libdir && /Users/biocbuild/BBS/utils/build-universal.sh brendaDb_1.23.0.tar.gz /Library/Frameworks/R.framework/Resources/bin/R brendaDb.buildbin-libdir StartedAt: 2025-07-07 22:10:12 -0400 (Mon, 07 Jul 2025) EndedAt: 2025-07-07 22:10:17 -0400 (Mon, 07 Jul 2025) EllapsedTime: 5.1 seconds RetCode: 0 Status: OK PackageFile: brendaDb_1.23.0.tgz PackageFileSize: 764.2 KiB