Package: breakpointR Version: 1.27.0 Command: rm -rf breakpointR.buildbin-libdir && mkdir breakpointR.buildbin-libdir && F:\biocbuild\bbs-3.22-bioc\R\bin\R.exe CMD INSTALL --build --library=breakpointR.buildbin-libdir breakpointR_1.27.0.tar.gz StartedAt: 2025-07-08 08:31:59 -0400 (Tue, 08 Jul 2025) EndedAt: 2025-07-08 08:32:45 -0400 (Tue, 08 Jul 2025) EllapsedTime: 45.8 seconds RetCode: 0 Status: OK PackageFile: breakpointR_1.27.0.zip PackageFileSize: 557 KiB