Package: borealis Version: 1.13.0 Command: /home/biocbuild/R/R/bin/R CMD INSTALL borealis StartedAt: 2025-07-14 20:55:41 -0000 (Mon, 14 Jul 2025) EndedAt: 2025-07-14 20:56:30 -0000 (Mon, 14 Jul 2025) EllapsedTime: 49.3 seconds RetCode: 0 Status: OK