Package: borealis Version: 1.13.0 Command: /home/biocbuild/R/R/bin/R CMD build --keep-empty-dirs --no-resave-data borealis StartedAt: 2025-07-14 22:16:33 -0000 (Mon, 14 Jul 2025) EndedAt: 2025-07-14 22:19:00 -0000 (Mon, 14 Jul 2025) EllapsedTime: 147.1 seconds RetCode: 0 Status: OK PackageFile: borealis_1.13.0.tar.gz PackageFileSize: 382.9 KiB