Package: borealis Version: 1.13.0 Command: /Library/Frameworks/R.framework/Resources/bin/R CMD build --keep-empty-dirs --no-resave-data borealis StartedAt: 2025-07-22 15:45:59 -0400 (Tue, 22 Jul 2025) EndedAt: 2025-07-22 15:46:45 -0400 (Tue, 22 Jul 2025) EllapsedTime: 46.5 seconds RetCode: 0 Status: OK PackageFile: borealis_1.13.0.tar.gz PackageFileSize: 426.4 KiB