Package: borealis Version: 1.13.0 Command: rm -rf borealis.buildbin-libdir && mkdir borealis.buildbin-libdir && /Users/biocbuild/BBS/utils/build-universal.sh borealis_1.13.0.tar.gz /Library/Frameworks/R.framework/Resources/bin/R borealis.buildbin-libdir StartedAt: 2025-07-22 22:17:39 -0400 (Tue, 22 Jul 2025) EndedAt: 2025-07-22 22:17:57 -0400 (Tue, 22 Jul 2025) EllapsedTime: 17.4 seconds RetCode: 0 Status: OK PackageFile: borealis_1.13.0.tgz PackageFileSize: 473.2 KiB