Package: bnem Version: 1.17.0 Command: /home/biocbuild/R/R/bin/R CMD INSTALL bnem StartedAt: 2025-07-14 20:45:49 -0000 (Mon, 14 Jul 2025) EndedAt: 2025-07-14 20:46:36 -0000 (Mon, 14 Jul 2025) EllapsedTime: 47.0 seconds RetCode: 0 Status: OK