Package: bnem Version: 1.17.0 Command: /home/biocbuild/R/R/bin/R CMD build --keep-empty-dirs --no-resave-data bnem StartedAt: 2025-07-14 22:16:20 -0000 (Mon, 14 Jul 2025) EndedAt: 2025-07-14 22:17:58 -0000 (Mon, 14 Jul 2025) EllapsedTime: 98.0 seconds RetCode: 0 Status: OK PackageFile: bnem_1.17.0.tar.gz PackageFileSize: 1.278 MiB