Package: bnbc Version: 1.31.0 Command: F:\biocbuild\bbs-3.22-bioc\R\bin\R.exe CMD INSTALL bnbc StartedAt: 2025-07-20 16:35:56 -0400 (Sun, 20 Jul 2025) EndedAt: 2025-07-20 16:36:50 -0400 (Sun, 20 Jul 2025) EllapsedTime: 54.5 seconds RetCode: 0 Status: OK