Package: bnbc Version: 1.31.0 Command: /Library/Frameworks/R.framework/Resources/bin/R CMD build --keep-empty-dirs --no-resave-data bnbc StartedAt: 2025-07-14 16:17:49 -0400 (Mon, 14 Jul 2025) EndedAt: 2025-07-14 16:19:26 -0400 (Mon, 14 Jul 2025) EllapsedTime: 97.3 seconds RetCode: 0 Status: OK PackageFile: bnbc_1.31.0.tar.gz PackageFileSize: 4.152 MiB