Package: bnbc Version: 1.31.0 Command: rm -rf bnbc.buildbin-libdir && mkdir bnbc.buildbin-libdir && /Users/biocbuild/BBS/utils/build-universal.sh bnbc_1.31.0.tar.gz /Library/Frameworks/R.framework/Resources/bin/R bnbc.buildbin-libdir StartedAt: 2025-07-15 00:47:55 -0400 (Tue, 15 Jul 2025) EndedAt: 2025-07-15 00:48:57 -0400 (Tue, 15 Jul 2025) EllapsedTime: 62.1 seconds RetCode: 0 Status: OK PackageFile: bnbc_1.31.0.tgz PackageFileSize: 4.535 MiB