Package: bnbc Version: 1.31.0 Command: /Library/Frameworks/R.framework/Resources/bin/R CMD INSTALL bnbc StartedAt: 2025-07-21 15:16:58 -0400 (Mon, 21 Jul 2025) EndedAt: 2025-07-21 15:17:15 -0400 (Mon, 21 Jul 2025) EllapsedTime: 16.7 seconds RetCode: 0 Status: OK