Package: bnbc Version: 1.31.0 Command: /Library/Frameworks/R.framework/Resources/bin/R CMD build --keep-empty-dirs --no-resave-data bnbc StartedAt: 2025-07-21 15:45:32 -0400 (Mon, 21 Jul 2025) EndedAt: 2025-07-21 15:46:09 -0400 (Mon, 21 Jul 2025) EllapsedTime: 36.4 seconds RetCode: 0 Status: OK PackageFile: bnbc_1.31.0.tar.gz PackageFileSize: 4.152 MiB