Package: bnbc Version: 1.31.0 Command: rm -rf bnbc.buildbin-libdir && mkdir bnbc.buildbin-libdir && /Users/biocbuild/BBS/utils/build-universal.sh bnbc_1.31.0.tar.gz /Library/Frameworks/R.framework/Resources/bin/R bnbc.buildbin-libdir StartedAt: 2025-07-21 22:18:45 -0400 (Mon, 21 Jul 2025) EndedAt: 2025-07-21 22:19:03 -0400 (Mon, 21 Jul 2025) EllapsedTime: 18.4 seconds RetCode: 0 Status: OK PackageFile: bnbc_1.31.0.tgz PackageFileSize: 4.534 MiB