Package: blase Version: 0.99.3 Command: /home/biocbuild/R/R/bin/R CMD INSTALL blase StartedAt: 2025-10-06 21:17:56 -0000 (Mon, 06 Oct 2025) EndedAt: 2025-10-06 21:18:54 -0000 (Mon, 06 Oct 2025) EllapsedTime: 57.5 seconds RetCode: 0 Status: OK