Package: blase Version: 0.99.3 Command: /home/biocbuild/R/R/bin/R CMD check --install=check:blase.install-out.txt --library=/home/biocbuild/R/R/site-library --no-vignettes --timings blase_0.99.3.tar.gz StartedAt: 2025-10-07 05:52:25 -0000 (Tue, 07 Oct 2025) EndedAt: 2025-10-07 06:02:59 -0000 (Tue, 07 Oct 2025) EllapsedTime: 633.5 seconds RetCode: 0 Status: OK CheckDir: blase.Rcheck Warnings: 0