Package: blase Version: 0.99.3 Command: /home/biocbuild/R/R/bin/R CMD build --keep-empty-dirs --no-resave-data blase StartedAt: 2025-10-06 22:14:21 -0000 (Mon, 06 Oct 2025) EndedAt: 2025-10-06 22:32:07 -0000 (Mon, 06 Oct 2025) EllapsedTime: 1066.4 seconds RetCode: 0 Status: OK PackageFile: blase_0.99.3.tar.gz PackageFileSize: 6.57 MiB