Package: blase Version: 0.99.3 Command: rm -rf blase.buildbin-libdir && mkdir blase.buildbin-libdir && /Users/biocbuild/BBS/utils/build-universal.sh blase_0.99.3.tar.gz /Library/Frameworks/R.framework/Resources/bin/R blase.buildbin-libdir StartedAt: 2025-10-07 02:00:09 -0400 (Tue, 07 Oct 2025) EndedAt: 2025-10-07 02:01:12 -0400 (Tue, 07 Oct 2025) EllapsedTime: 63.7 seconds RetCode: 0 Status: OK PackageFile: blase_0.99.3.tgz PackageFileSize: 8.881 MiB